BEGIN:VCALENDAR
VERSION:2.0
PRODID:-//CEC Banyoles - ECPv4.5.13//NONSGML v1.0//EN
CALSCALE:GREGORIAN
METHOD:PUBLISH
X-WR-CALNAME:CEC Banyoles
X-ORIGINAL-URL:https://cecbanyoles.cat
X-WR-CALDESC:Events for CEC Banyoles
BEGIN:VEVENT
DTSTART;TZID=Europe/Madrid:20260410T190000
DTEND;TZID=Europe/Madrid:20260410T203000
DTSTAMP:20260421T013644
CREATED:20260113T090339Z
LAST-MODIFIED:20260311T100657Z
UID:16576-1775847600-1775853000@cecbanyoles.cat
SUMMARY:Els divendres\, parlem: "El cicle troià en la iconografia occidental" de Joaquim Gesti. Part 1
DESCRIPTION:Conferència “El cicle troià en la iconografia occidental” de Joaquim Gesti. \nLa Guerra de Troia és un dels mites més recurrents de la cultura europea especialment en les arts. Des de la ceràmica grega\, passant per la escultura i els mosaics\, fins a l’art contemporani\, artistes de totes les èpoques han representat herois\, déus i víctimes del conflicte per reflexionar sobre l’heroisme\, la violència\, el destí i la destrucció de les ciutats. Aquesta xerrada proposa un recorregut visual pel mite de Troia per veure com cada període històric ha reinterpretat el relat homèric segons els seus propis valors i inquietuds\, convertint Troia en una metàfora universal de la guerra. \nPrimera part. El següent divendres\, dia 17 d’abril\, oferirem la segona part. \n
URL:https://cecbanyoles.cat/calendari/els-divendres-parlem-el-cicle-de-troia-a-lart/
CATEGORIES:Elsdivendresparlem
END:VEVENT
BEGIN:VEVENT
DTSTART;TZID=Europe/Madrid:20260412T091500
DTEND;TZID=Europe/Madrid:20260412T140000
DTSTAMP:20260421T013644
CREATED:20251118T095802Z
LAST-MODIFIED:20260317T090624Z
UID:16370-1775985300-1776002400@cecbanyoles.cat
SUMMARY:Conèixer el Pla de l’Estany: Sortida fora de la comarca\, conjunta amb l'associació Amics de Besalú i el seu Comtat
DESCRIPTION:Serà una ruta circular\, es pujarà a la capella del Sagrat Cor i després es baixarà cap a l’església de Sant Fruitós d’Ossinyà. \n
URL:https://cecbanyoles.cat/calendari/coneixer-el-pla-de-lestany-sortida-fora-de-la-comarca-conjunta-amb-lassociacio-amics-de-besalu-i-el-seu-comtat/
CATEGORIES:Conèixer el Pla de l'Estany
END:VEVENT
BEGIN:VEVENT
DTSTART;TZID=Europe/Madrid:20260416T190000
DTEND;TZID=Europe/Madrid:20260416T203000
DTSTAMP:20260421T013644
CREATED:20260113T084101Z
LAST-MODIFIED:20260113T090435Z
UID:16572-1776366000-1776371400@cecbanyoles.cat
SUMMARY:Lliurament de premis Joaquim Palmada i Teixidor
DESCRIPTION:L’acte de lliurament de premis tindrà lloc a la sala d’actes d’El Tint el dijous 16 d’abril a les 19h. \n
URL:https://cecbanyoles.cat/calendari/lliurament-de-premis-joaquim-palmada-i-teixidor-2/
END:VEVENT
BEGIN:VEVENT
DTSTART;TZID=Europe/Madrid:20260417T190000
DTEND;TZID=Europe/Madrid:20260417T203000
DTSTAMP:20260421T013644
CREATED:20260206T092444Z
LAST-MODIFIED:20260311T100634Z
UID:16712-1776452400-1776457800@cecbanyoles.cat
SUMMARY:Els divendres\, parlem: "El cicle troià en la iconografia occidental" de Joaquim Gesti. Part 2
DESCRIPTION:Conferència “El cicle troià en la iconografia occidental” de Joaquim Gesti.  Segona part. \nLa Guerra de Troia és un dels mites més recurrents de la cultura europea especialment en les arts. Des de la ceràmica grega\, passant per la escultura i els mosaics\, fins a l’art contemporani\, artistes de totes les èpoques han representat herois\, déus i víctimes del conflicte per reflexionar sobre l’heroisme\, la violència\, el destí i la destrucció de les ciutats. Aquesta xerrada proposa un recorregut visual pel mite de Troia per veure com cada període històric ha reinterpretat el relat homèric segons els seus propis valors i inquietuds\, convertint Troia en una metàfora universal de la guerra. \n
URL:https://cecbanyoles.cat/calendari/els-divendres-parlem-el-cicle-de-troia-a-lart-de-joaquim-gesti-part-2/
CATEGORIES:Elsdivendresparlem
END:VEVENT
BEGIN:VEVENT
DTSTART;TZID=Europe/Madrid:20260424T190000
DTEND;TZID=Europe/Madrid:20260424T203000
DTSTAMP:20260421T013644
CREATED:20260306T091844Z
LAST-MODIFIED:20260306T091844Z
UID:16905-1777057200-1777062600@cecbanyoles.cat
SUMMARY:Els divendres\, parlem: Presentació del nou llibre d'Antoni Rossell "Aquí hi ha dracs"
DESCRIPTION:En alguns mapes medievals s’hi pot llegir la inscripció hic sunt dracones (“aquí hi ha dracs”)\, una advertència que assenyalava territoris desconeguts\, presumptament habitats per monstres i criatures aterridores. En aquestes pàgines emprendrem una recerca metafòrica d’aquests “dracs” medievals —reals o simbòlics— i ens endinsarem en l’Edat Mitjana\, un període tant fascinant com enigmàtic.  \nPresentació a càrrec de Matthew Tree.  \n
URL:https://cecbanyoles.cat/calendari/els-divendres-parlem-presentacio-del-nou-llibre-dantoni-rossell-aqui-hi-ha-dracs/
CATEGORIES:Elsdivendresparlem
END:VEVENT
END:VCALENDAR