BEGIN:VCALENDAR
VERSION:2.0
PRODID:-//CEC Banyoles - ECPv4.5.13//NONSGML v1.0//EN
CALSCALE:GREGORIAN
METHOD:PUBLISH
X-WR-CALNAME:CEC Banyoles
X-ORIGINAL-URL:https://cecbanyoles.cat
X-WR-CALDESC:Events for CEC Banyoles
BEGIN:VEVENT
DTSTART;VALUE=DATE:20151219
DTEND;VALUE=DATE:20151219
DTSTAMP:20260421T150342
CREATED:20150908T085422Z
LAST-MODIFIED:20160122T174411Z
UID:2289-1450483200-1450569599@cecbanyoles.cat
SUMMARY:Vulcanisme a les Illes Canàries
DESCRIPTION:A les 19:00 a la sala d’actes del Museu Darder de Banyoles\, conferència a càrrec de Salvador Sarquella sobre el Vulcanisme a les Illes Canàries.  \nPresentació del llibre L´ànima del volcà de Santiago Vilanova.  \nProjecció del curt Erupcions volcàniques de Maurice i Katia Krafft amb música de Tristany i Isolda de Richard Wagner. \n
URL:https://cecbanyoles.cat/calendari/vulcanisme-a-les-illes-canaries/
CATEGORIES:Curs de patrimoni geològic
END:VEVENT
END:VCALENDAR