BEGIN:VCALENDAR
VERSION:2.0
PRODID:-//CEC Banyoles - ECPv4.5.13//NONSGML v1.0//EN
CALSCALE:GREGORIAN
METHOD:PUBLISH
X-WR-CALNAME:CEC Banyoles
X-ORIGINAL-URL:https://cecbanyoles.cat
X-WR-CALDESC:Events for CEC Banyoles
BEGIN:VEVENT
DTSTART;TZID=Europe/Madrid:20260606T110000
DTEND;TZID=Europe/Madrid:20260606T140000
DTSTAMP:20260425T135514
CREATED:20260424T083631Z
LAST-MODIFIED:20260424T083631Z
UID:17161-1780743600-1780754400@cecbanyoles.cat
SUMMARY:Visita al Centre d'Art de Banyoles - Exclusiva per socis
DESCRIPTION:Visita al Centre d’Art de Banyoles que ubica la Col·lecció Gimferrer. \n
URL:https://cecbanyoles.cat/calendari/visita-al-centre-dart-de-banyoles-exclusiva-per-socis/
END:VEVENT
END:VCALENDAR