BEGIN:VCALENDAR
VERSION:2.0
PRODID:-//CEC Banyoles - ECPv4.5.13//NONSGML v1.0//EN
CALSCALE:GREGORIAN
METHOD:PUBLISH
X-WR-CALNAME:CEC Banyoles
X-ORIGINAL-URL:https://cecbanyoles.cat
X-WR-CALDESC:Events for CEC Banyoles
BEGIN:VEVENT
DTSTART;TZID=UTC+0:20150530T080000
DTEND;TZID=UTC+0:20150531T170000
DTSTAMP:20260422T042104
CREATED:20150708T124815Z
LAST-MODIFIED:20160224T172351Z
UID:1786-1432972800-1433091600@cecbanyoles.cat
SUMMARY:Sortida final del Curs d'Història de Catalunya a València.
DESCRIPTION:\n		\n			#gallery-1 {\n				margin: auto;\n			}\n			#gallery-1 .gallery-item {\n				float: left;\n				margin-top: 10px;\n				text-align: center;\n				width: 12%;\n			}\n			#gallery-1 img {\n				border: 2px solid #cfcfcf;\n			}\n			#gallery-1 .gallery-caption {\n				margin-left: 0;\n			}\n			/* see gallery_shortcode() in wp-includes/media.php */\n		\n		\n			\n				\n			\n			\n				\n			\n			\n				\n			\n			\n				\n			\n			\n				\n			\n			\n				\n			\n			\n				\n			\n			\n				\n			\n			\n				\n			\n			\n				\n			\n			\n				\n			\n			\n				\n			\n			\n				\n			\n			\n				\n			\n			\n				\n			\n			\n				\n			\n		\n\n
URL:https://cecbanyoles.cat/calendari/sortida-final-del-curs-dhistoria-de-catalunya-a-valencia/
CATEGORIES:Curs d'història de Catalunya,Sortides
ATTACH;FMTTYPE=image/jpeg:https://cecbanyoles.cat/wp-content/uploads/2015/07/IMG_6656.jpg
END:VEVENT
END:VCALENDAR