BEGIN:VCALENDAR
VERSION:2.0
PRODID:-//CEC Banyoles - ECPv4.5.13//NONSGML v1.0//EN
CALSCALE:GREGORIAN
METHOD:PUBLISH
X-WR-CALNAME:CEC Banyoles
X-ORIGINAL-URL:https://cecbanyoles.cat
X-WR-CALDESC:Events for CEC Banyoles
BEGIN:VEVENT
DTSTART;VALUE=DATE:20150118
DTEND;VALUE=DATE:20150118
DTSTAMP:20260423T054950
CREATED:20150708T120521Z
LAST-MODIFIED:20150708T120521Z
UID:1586-1421539200-1421625599@cecbanyoles.cat
SUMMARY:Sortida curs Història de Catalunya. Universitat de Cervera
DESCRIPTION:\n		\n			#gallery-1 {\n				margin: auto;\n			}\n			#gallery-1 .gallery-item {\n				float: left;\n				margin-top: 10px;\n				text-align: center;\n				width: 12%;\n			}\n			#gallery-1 img {\n				border: 2px solid #cfcfcf;\n			}\n			#gallery-1 .gallery-caption {\n				margin-left: 0;\n			}\n			/* see gallery_shortcode() in wp-includes/media.php */\n		\n		\n			\n				\n			\n			\n				\n			\n			\n				\n			\n			\n				\n			\n			\n				\n			\n			\n				\n			\n			\n				\n			\n			\n				\n			\n			\n				\n			\n			\n				\n			\n			\n				\n			\n			\n				\n			\n			\n				\n			\n			\n				\n			\n			\n		\n\n
URL:https://cecbanyoles.cat/calendari/sortida-curs-historia-de-catalunya-universitat-de-cervera/
CATEGORIES:Curs d'història de Catalunya,Sortides
ATTACH;FMTTYPE=image/jpeg:https://cecbanyoles.cat/wp-content/uploads/2015/07/2015-01-18.-Cervera-1-M.Butinyà.jpg
END:VEVENT
END:VCALENDAR