BEGIN:VCALENDAR
VERSION:2.0
PRODID:-//CEC Banyoles - ECPv4.5.13//NONSGML v1.0//EN
CALSCALE:GREGORIAN
METHOD:PUBLISH
X-WR-CALNAME:CEC Banyoles
X-ORIGINAL-URL:https://cecbanyoles.cat
X-WR-CALDESC:Events for CEC Banyoles
BEGIN:VEVENT
DTSTART;VALUE=DATE:20160416
DTEND;VALUE=DATE:20160416
DTSTAMP:20260419T132646
CREATED:20150713T062159Z
LAST-MODIFIED:20160321T175451Z
UID:1858-1460764800-1460851199@cecbanyoles.cat
SUMMARY:Sortida curs d'història de Catalunya. Museu de l'Exili de la Jonquera
DESCRIPTION:
URL:https://cecbanyoles.cat/calendari/sortida-curs-dhistoria-de-catalunya-7/
CATEGORIES:Curs d'història de Catalunya,Sortides
END:VEVENT
END:VCALENDAR