BEGIN:VCALENDAR
VERSION:2.0
PRODID:-//CEC Banyoles - ECPv4.5.13//NONSGML v1.0//EN
CALSCALE:GREGORIAN
METHOD:PUBLISH
X-WR-CALNAME:CEC Banyoles
X-ORIGINAL-URL:https://cecbanyoles.cat
X-WR-CALDESC:Events for CEC Banyoles
BEGIN:VEVENT
DTSTART;VALUE=DATE:20160313
DTEND;VALUE=DATE:20160313
DTSTAMP:20260419T205721
CREATED:20150713T061922Z
LAST-MODIFIED:20160224T171255Z
UID:1855-1457827200-1457913599@cecbanyoles.cat
SUMMARY:Sortida curs d'història de Catalunya.  Itinerari Bombes sobre Girona\, amb visita al Refugi Antiaeri del Jardí de la Infància.
DESCRIPTION:
URL:https://cecbanyoles.cat/calendari/sortida-curs-dhistoria-de-catalunya-6/
CATEGORIES:Curs d'història de Catalunya,Sortides
END:VEVENT
END:VCALENDAR