BEGIN:VCALENDAR
VERSION:2.0
PRODID:-//CEC Banyoles - ECPv4.5.13//NONSGML v1.0//EN
CALSCALE:GREGORIAN
METHOD:PUBLISH
X-WR-CALNAME:CEC Banyoles
X-ORIGINAL-URL:https://cecbanyoles.cat
X-WR-CALDESC:Events for CEC Banyoles
BEGIN:VEVENT
DTSTART;VALUE=DATE:20151114
DTEND;VALUE=DATE:20151114
DTSTAMP:20260421T132820
CREATED:20150713T060605Z
LAST-MODIFIED:20160224T171647Z
UID:1838-1447459200-1447545599@cecbanyoles.cat
SUMMARY:Sortida curs d'història de Catalunya:  Terrassa. Visita al seu patrimoni industrial i al conjunt monumental de les esglésies de Sant Pere
DESCRIPTION:
URL:https://cecbanyoles.cat/calendari/sortida-curs-dhistoria-de-catalunya-2/
CATEGORIES:Curs d'història de Catalunya,Sortides
END:VEVENT
END:VCALENDAR