BEGIN:VCALENDAR
VERSION:2.0
PRODID:-//CEC Banyoles - ECPv4.5.13//NONSGML v1.0//EN
CALSCALE:GREGORIAN
METHOD:PUBLISH
X-WR-CALNAME:CEC Banyoles
X-ORIGINAL-URL:https://cecbanyoles.cat
X-WR-CALDESC:Events for CEC Banyoles
BEGIN:VEVENT
DTSTART;TZID=UTC+0:20150627T080000
DTEND;TZID=UTC+0:20150627T170000
DTSTAMP:20260422T024624
CREATED:20150708T124848Z
LAST-MODIFIED:20150708T124848Z
UID:1803-1435392000-1435424400@cecbanyoles.cat
SUMMARY:Sortida comentada pels recs de Banyoles
DESCRIPTION:
URL:https://cecbanyoles.cat/calendari/sortida-comentada-pels-recs-de-banyoles/
CATEGORIES:CEC,Sortides
END:VEVENT
END:VCALENDAR