BEGIN:VCALENDAR
VERSION:2.0
PRODID:-//CEC Banyoles - ECPv4.5.13//NONSGML v1.0//EN
CALSCALE:GREGORIAN
METHOD:PUBLISH
X-WR-CALNAME:CEC Banyoles
X-ORIGINAL-URL:https://cecbanyoles.cat
X-WR-CALDESC:Events for CEC Banyoles
BEGIN:VEVENT
DTSTART;TZID=Europe/Madrid:20240411T190000
DTEND;TZID=Europe/Madrid:20240411T210000
DTSTAMP:20260421T085234
CREATED:20240402T091107Z
LAST-MODIFIED:20240402T091259Z
UID:9814-1712862000-1712869200@cecbanyoles.cat
SUMMARY:Presentació llibre "La noblesa gironina de privilegi de generositat" d'Ignasi Casanovas-Permanyer i Casas
DESCRIPTION:Presentació del llibre “La noblesa gironina de privilegi de generositat” d’Ignasi Casanovas-Permanyer i Casas. \n
URL:https://cecbanyoles.cat/calendari/presentacio-llibre-la-noblesa-gironina-de-privilegi-de-generositat-dignasi-casanovas-permanyer-i-casas/
CATEGORIES:Presentació llibre
END:VEVENT
END:VCALENDAR