BEGIN:VCALENDAR
VERSION:2.0
PRODID:-//CEC Banyoles - ECPv4.5.13//NONSGML v1.0//EN
CALSCALE:GREGORIAN
METHOD:PUBLISH
X-WR-CALNAME:CEC Banyoles
X-ORIGINAL-URL:https://cecbanyoles.cat
X-WR-CALDESC:Events for CEC Banyoles
BEGIN:VEVENT
DTSTART;TZID=Europe/Madrid:20231202T120000
DTEND;TZID=Europe/Madrid:20231202T133000
DTSTAMP:20260419T134507
CREATED:20231117T092110Z
LAST-MODIFIED:20231117T092110Z
UID:8995-1701518400-1701523800@cecbanyoles.cat
SUMMARY:Presentació del Quadern 43 “Els nous paisatges energètics” i del butlletí 21
DESCRIPTION:
URL:https://cecbanyoles.cat/calendari/presentacio-del-quadern-43-els-nous-paisatges-energetics-i-del-butlleti-21/
END:VEVENT
END:VCALENDAR