BEGIN:VCALENDAR
VERSION:2.0
PRODID:-//CEC Banyoles - ECPv4.5.13//NONSGML v1.0//EN
CALSCALE:GREGORIAN
METHOD:PUBLISH
X-WR-CALNAME:CEC Banyoles
X-ORIGINAL-URL:https://cecbanyoles.cat
X-WR-CALDESC:Events for CEC Banyoles
BEGIN:VEVENT
DTSTART;TZID=UTC+0:20160205T200000
DTEND;TZID=UTC+0:20160205T210000
DTSTAMP:20260420T074313
CREATED:20160112T095432Z
LAST-MODIFIED:20160222T065857Z
UID:2488-1454702400-1454706000@cecbanyoles.cat
SUMMARY:Presentació del llibre "Groc de Ginesta" de Josep Maria Mundet
DESCRIPTION:A la Sala Corominas.\nMuseu Arqueológic de Banyoles\nPlaça de la Font\, 11 \n
URL:https://cecbanyoles.cat/calendari/presentacio-del-llibre-groc-de-ginesta-de-josep-maria-mundet/
CATEGORIES:Presentació llibre
END:VEVENT
END:VCALENDAR