BEGIN:VCALENDAR
VERSION:2.0
PRODID:-//CEC Banyoles - ECPv4.5.13//NONSGML v1.0//EN
CALSCALE:GREGORIAN
METHOD:PUBLISH
X-WR-CALNAME:CEC Banyoles
X-ORIGINAL-URL:https://cecbanyoles.cat
X-WR-CALDESC:Events for CEC Banyoles
BEGIN:VEVENT
DTSTART;TZID=Europe/Madrid:20240905T190000
DTEND;TZID=Europe/Madrid:20240905T200000
DTSTAMP:20260421T175127
CREATED:20240903T084937Z
LAST-MODIFIED:20240903T085000Z
UID:10471-1725562800-1725566400@cecbanyoles.cat
SUMMARY:Presentació del llibre "Ensenya'm la llengua"
DESCRIPTION:Presentació del llibre “Ensenya’m la llengua” d’Antoni Beltran. La presentació es durà a terme al Tint\, dijous dia 5 de setembre a les 19h i hi intervindran Francesc Xavier Carreras\, metge i membre del CECB i Antoni Beltran\, metge i autor del llibre. \n
URL:https://cecbanyoles.cat/calendari/presentacio-del-llibre-ensenyam-la-llengua/
CATEGORIES:Presentació llibre
END:VEVENT
END:VCALENDAR