BEGIN:VCALENDAR
VERSION:2.0
PRODID:-//CEC Banyoles - ECPv4.5.13//NONSGML v1.0//EN
CALSCALE:GREGORIAN
METHOD:PUBLISH
X-WR-CALNAME:CEC Banyoles
X-ORIGINAL-URL:https://cecbanyoles.cat
X-WR-CALDESC:Events for CEC Banyoles
BEGIN:VEVENT
DTSTART;VALUE=DATE:20140126
DTEND;VALUE=DATE:20140126
DTSTAMP:20260425T141335
CREATED:20150708T092359Z
LAST-MODIFIED:20150708T092359Z
UID:1192-1390694400-1390780799@cecbanyoles.cat
SUMMARY:Presentació de llibre “Paleografia al comtat de Besalú”
DESCRIPTION:
URL:https://cecbanyoles.cat/calendari/presentacio-de-llibre-paleografia-al-comtat-de-besalu/
CATEGORIES:CEC,Col·loquis,Conferències
END:VEVENT
END:VCALENDAR