BEGIN:VCALENDAR
VERSION:2.0
PRODID:-//CEC Banyoles - ECPv4.5.13//NONSGML v1.0//EN
CALSCALE:GREGORIAN
METHOD:PUBLISH
X-WR-CALNAME:CEC Banyoles
X-ORIGINAL-URL:https://cecbanyoles.cat
X-WR-CALDESC:Events for CEC Banyoles
BEGIN:VEVENT
DTSTART;TZID=Europe/Madrid:20211217T190000
DTEND;TZID=Europe/Madrid:20211217T200000
DTSTAMP:20260423T214924
CREATED:20210907T073747Z
LAST-MODIFIED:20220201T091214Z
UID:6304-1639767600-1639771200@cecbanyoles.cat
SUMMARY:Cicle Objectiu 2030\, per un Pla de l’Estany sostenible: Presentació del llibre “Economia en el canvi climàtic”
DESCRIPTION:Presentació del llibre “Economia en el canvi climàtic”.\nA càrrec del seu autor\, Joan Vila\, enginyer industrial \nEl llibre Economia en el canvi climàtic: Full de ruta cap a la societat frugal pretén ajudar a comprendre els camins per resoldre la crisi climàtica. Més enllà dels canvis tecnològics\, Joan Vila hi exposa els problemes econòmics que fan que la tecnologia no sigui capaç de frenar ella sola l’augment de la concentració de gasos d’efecte hivernacle. L’autor proposa mesures econòmiques\, fiscals i financeres (com ara taxar les matèries primeres o reduir el crèdit al consum) i posa èmfasi en la necessitat de canvis conductuals de la societat\, per acabar plantejant quin ha de ser l’escenari per acomplir els objectius el 2050. \nPLACES LIMITADES. CAL RESERVA PRÈVIA \n
URL:https://cecbanyoles.cat/calendari/objectiu-2030-cap-a-un-pla-de-lestany-sostenible-2/
CATEGORIES:Objectiu 2030,per un Pla de l'Estany sostenible
END:VEVENT
END:VCALENDAR