BEGIN:VCALENDAR
VERSION:2.0
PRODID:-//CEC Banyoles - ECPv4.5.13//NONSGML v1.0//EN
CALSCALE:GREGORIAN
METHOD:PUBLISH
X-WR-CALNAME:CEC Banyoles
X-ORIGINAL-URL:https://cecbanyoles.cat
X-WR-CALDESC:Events for CEC Banyoles
BEGIN:VEVENT
DTSTART;TZID=Europe/Madrid:20211112T190000
DTEND;TZID=Europe/Madrid:20211112T200000
DTSTAMP:20260421T082638
CREATED:20210907T073655Z
LAST-MODIFIED:20220201T091232Z
UID:6302-1636743600-1636747200@cecbanyoles.cat
SUMMARY:Cicle Objectiu 2030\, per un Pla de l’Estany sostenible: Nous temps\, nou clima
DESCRIPTION:Nous temps\, nou clima. Conferència emmarcada en el Cicle Objectiu 2030: cap a un Pla de l’Estany sostenible. \nA càrrec de Josep Calbó\, físic. \nEns trobem immersos en una situació d’emergència climàtica que pot tenir conseqüències molt importants i sostingudes en el temps i l’espai. El clima dels propers decennis comportarà situacions de temps meteorològic diferents\, tant a Catalunya com a la resta del món. Això és el que indiquen totes les projeccions climàtiques fetes amb models del sistema terrestre\, i sigui quin sigui l’escenari que finalment s’esdevingui. \n  \nPLACES LIMITADES. CAL RESERVA PRÈVIA \n
URL:https://cecbanyoles.cat/calendari/nous-temps-nou-clima/
CATEGORIES:Objectiu 2030,per un Pla de l'Estany sostenible
END:VEVENT
END:VCALENDAR