BEGIN:VCALENDAR
VERSION:2.0
PRODID:-//CEC Banyoles - ECPv4.5.13//NONSGML v1.0//EN
CALSCALE:GREGORIAN
METHOD:PUBLISH
X-WR-CALNAME:CEC Banyoles
X-ORIGINAL-URL:https://cecbanyoles.cat
X-WR-CALDESC:Events for CEC Banyoles
BEGIN:VEVENT
DTSTART;VALUE=DATE:20140921
DTEND;VALUE=DATE:20140921
DTSTAMP:20260424T094624
CREATED:20150708T102437Z
LAST-MODIFIED:20150720T055033Z
UID:1430-1411257600-1411343999@cecbanyoles.cat
SUMMARY:La Farga de Banyoles
DESCRIPTION:El diumenge 21 de setembre de 2014 va tenir lloc una visita a la Farga de Banyoles\, guiada per l’arquitecte Jeroni Moner i que va comptar amb l’assistència d’unes 60 persones. En primer lloc es va fer una visita exterior de l’edifici\, per veure la disposició general dels diversos elements que l’integren i per observar l’entrada de l’aigua del rec\, que va permetre comprendre com\, obrint i tancant les diverses cadiretes que hi havia\, es podia dirigir l’aigua allà on convingués. Segons va explicar Jeroni Moner\, el primer edifici de la Farga de Banyoles va ser bastit el 1585 i va funcionar com a farga d’aram. Era un edifici modest\, amb una sola roda hidràulica i un sol martinet. Va ser de propietat comunal fins que\, el 1703\, es va privatitzar i ampliar amb més rodes i martinets\, amb el consegüent augment de la producció. Després de donar la volta a l’edifici per l’exterior\, els assistents van poder accedir a l’interior per veure la distribució interior de la farga i visitar les parts més antigues\, que conserven un martinet força sencer i les restes d’un altre martinet\, de fusta\, que es troba molt deteriorat i que\, segons va plantejar Jeroni Moner\, fóra molt convenient de restaurar i preservar. Finalment es van visitar el taller de fabricació artesanal de paper que s’hi ha instal·lat recentment\, recuperant d’aquesta manera un dels antics usos de l’edifici. \n\n		\n			#gallery-1 {\n				margin: auto;\n			}\n			#gallery-1 .gallery-item {\n				float: left;\n				margin-top: 10px;\n				text-align: center;\n				width: 12%;\n			}\n			#gallery-1 img {\n				border: 2px solid #cfcfcf;\n			}\n			#gallery-1 .gallery-caption {\n				margin-left: 0;\n			}\n			/* see gallery_shortcode() in wp-includes/media.php */\n		\n		\n			\n				\n			\n			\n				\n			\n			\n				\n			\n			\n				\n			\n			\n				\n			\n			\n				\n			\n			\n				\n			\n			\n		\n\n
URL:https://cecbanyoles.cat/calendari/la-farga-de-banyoles/
CATEGORIES:CEC,Sortides
ATTACH;FMTTYPE=image/jpeg:https://cecbanyoles.cat/wp-content/uploads/2015/07/DSC_6500.jpg
END:VEVENT
END:VCALENDAR