BEGIN:VCALENDAR
VERSION:2.0
PRODID:-//CEC Banyoles - ECPv4.5.13//NONSGML v1.0//EN
CALSCALE:GREGORIAN
METHOD:PUBLISH
X-WR-CALNAME:CEC Banyoles
X-ORIGINAL-URL:https://cecbanyoles.cat
X-WR-CALDESC:Events for CEC Banyoles
BEGIN:VEVENT
DTSTART;TZID=UTC+0:20170319T080000
DTEND;TZID=UTC+0:20170319T170000
DTSTAMP:20260421T114711
CREATED:20160902T155155Z
LAST-MODIFIED:20161014T154648Z
UID:2920-1489910400-1489942800@cecbanyoles.cat
SUMMARY:Història de la literatura catalana: Monestir de Vallbona de les Monges
DESCRIPTION:Visita al monestir de Vallbona de les Monges i ruta pel poble de Guimerà i Vallfogona. \n
URL:https://cecbanyoles.cat/calendari/historia-literatura-catalana-sortida-6/
CATEGORIES:Curs d'història de la literatura catalana
END:VEVENT
END:VCALENDAR