BEGIN:VCALENDAR
VERSION:2.0
PRODID:-//CEC Banyoles - ECPv4.5.13//NONSGML v1.0//EN
CALSCALE:GREGORIAN
METHOD:PUBLISH
X-WR-CALNAME:CEC Banyoles
X-ORIGINAL-URL:https://cecbanyoles.cat
X-WR-CALDESC:Events for CEC Banyoles
BEGIN:VEVENT
DTSTART;TZID=UTC+0:20170317T200000
DTEND;TZID=UTC+0:20170317T210000
DTSTAMP:20260421T132926
CREATED:20160902T152251Z
LAST-MODIFIED:20170103T104547Z
UID:2910-1489780800-1489784400@cecbanyoles.cat
SUMMARY:Història de la literatura catalana: Segles XVI\, XVII i XVIII. Literatura popular i literatura culta. El Rector de Vallfogona
DESCRIPTION:Conferència «Segles XVI\, XVII i XVIII. Literatura popular i literatura culta. El Rector de Vallfogona». \nConferenciant: Anna Freixa. \n
URL:https://cecbanyoles.cat/calendari/historia-literatura-catalana-segles-xvi-xvii-xviii-literatura-popular-literatura-culta-rector-vallfogona/
CATEGORIES:Curs d'història de la literatura catalana
END:VEVENT
END:VCALENDAR