BEGIN:VCALENDAR
VERSION:2.0
PRODID:-//CEC Banyoles - ECPv4.5.13//NONSGML v1.0//EN
CALSCALE:GREGORIAN
METHOD:PUBLISH
X-WR-CALNAME:CEC Banyoles
X-ORIGINAL-URL:https://cecbanyoles.cat
X-WR-CALDESC:Events for CEC Banyoles
BEGIN:VEVENT
DTSTART;TZID=Europe/Madrid:20231201T190000
DTEND;TZID=Europe/Madrid:20231201T200000
DTSTAMP:20260421T120502
CREATED:20230623T084605Z
LAST-MODIFIED:20231117T091042Z
UID:8685-1701457200-1701460800@cecbanyoles.cat
SUMMARY:Els divendres\, parlem: "Els banyolins d’avui. Anàlisi de les onades migratòries des de 1950 fins avui".
DESCRIPTION:Conferència “Els banyolins d’avui. Anàlisi de les onades migratòries des de 1950 fins avui”\, a càrrec Salvador Martí. \n
URL:https://cecbanyoles.cat/calendari/els-divendres-parlem-pendent-de-confirmacio-2/
CATEGORIES:Elsdivendresparlem
END:VEVENT
END:VCALENDAR