BEGIN:VCALENDAR
VERSION:2.0
PRODID:-//CEC Banyoles - ECPv4.5.13//NONSGML v1.0//EN
CALSCALE:GREGORIAN
METHOD:PUBLISH
X-WR-CALNAME:CEC Banyoles
X-ORIGINAL-URL:https://cecbanyoles.cat
X-WR-CALDESC:Events for CEC Banyoles
BEGIN:VEVENT
DTSTART;VALUE=DATE:20150116
DTEND;VALUE=DATE:20150116
DTSTAMP:20260423T073905
CREATED:20150708T120333Z
LAST-MODIFIED:20150708T120333Z
UID:1573-1421366400-1421452799@cecbanyoles.cat
SUMMARY:Conferència curs Història de Catalunya.
DESCRIPTION:\n		\n			#gallery-1 {\n				margin: auto;\n			}\n			#gallery-1 .gallery-item {\n				float: left;\n				margin-top: 10px;\n				text-align: center;\n				width: 12%;\n			}\n			#gallery-1 img {\n				border: 2px solid #cfcfcf;\n			}\n			#gallery-1 .gallery-caption {\n				margin-left: 0;\n			}\n			/* see gallery_shortcode() in wp-includes/media.php */\n		\n		\n			\n				\n			\n			\n				\n			\n			\n				\n			\n			\n				\n			\n			\n				\n			\n			\n				\n			\n			\n				\n			\n			\n				\n			\n		\n\n
URL:https://cecbanyoles.cat/calendari/conferencia-curs-historia-de-catalunya-7/
CATEGORIES:Conferències,Curs d'història de Catalunya
ATTACH;FMTTYPE=image/jpeg:https://cecbanyoles.cat/wp-content/uploads/2015/07/DSC_7998.jpg
END:VEVENT
END:VCALENDAR