BEGIN:VCALENDAR
VERSION:2.0
PRODID:-//CEC Banyoles - ECPv4.5.13//NONSGML v1.0//EN
CALSCALE:GREGORIAN
METHOD:PUBLISH
X-WR-CALNAME:CEC Banyoles
X-ORIGINAL-URL:https://cecbanyoles.cat
X-WR-CALDESC:Events for CEC Banyoles
BEGIN:VEVENT
DTSTART;VALUE=DATE:20141219
DTEND;VALUE=DATE:20141219
DTSTAMP:20260423T120209
CREATED:20150708T115822Z
LAST-MODIFIED:20150720T053807Z
UID:1546-1418947200-1419033599@cecbanyoles.cat
SUMMARY:Conferència curs Història de Catalunya.
DESCRIPTION:El divendres 19 de desembre de 2014 va tenir lloc la tercera conferència del cicle\, dedicada a la Guerra de Successió\, a càrrec de Jordi Galofré\, coordinador del curs. A partir del plantejament del conflicte successori arran de la mort de Carles II i de la dimensió europea que va prendre el conflicte\, el conferenciant va presentar els dos protagonistes enfrontats\, Felip V i l’arxiduc-rei Carles III i va explicar a grans trets el desenvolupament de la Guerra de Successió\, fins arribar a la pau d’Utrecht. Va fer referència a continuació a l’ocupació\, amb molta violència\, de Catalunya i a l’opció de la ciutat de Barcelona per la resistència. Després d’explicar el setge i la caiguda de Barcelona\, l’onze de setembre de 1714\, va descriure les conseqüències de la derrota catalana: la destrucció de l’estructura político-administrativa de Catalunya\, una repressió molt enèrgica sobre la població i l’abolició\, amb els decrets de Nova Planta\, de la legislació pròpia i la imposició de les lleis castellanes\, més favorables a la centralització. L’assistència va ser de 65 persones.\nEl diumenge següent\, dia 21\, va tenir lloc la sortida corresponent a aquesta conferència\, que va consistir en una anada al castell de Cardona\, que va ser l’última plaça forta catalana que va caure en poder de les tropes de Felip V el 18 de setembre de 1714. La visita de Cardona va consistir en un recorregut per tot l’edifici per poder entendre l’estructura defensiva del castell\, amb una atenció especial a la corona de baluards. A la tarda es va visitar el castell de Talamanca\, des d’on es va poder contemplar l’índret on va tenir lloc l’última victòria militar d’un exèrcit català\, l’agost de 1714. Van participar a aquesta sortida 47 persones. \n\n		\n			#gallery-1 {\n				margin: auto;\n			}\n			#gallery-1 .gallery-item {\n				float: left;\n				margin-top: 10px;\n				text-align: center;\n				width: 12%;\n			}\n			#gallery-1 img {\n				border: 2px solid #cfcfcf;\n			}\n			#gallery-1 .gallery-caption {\n				margin-left: 0;\n			}\n			/* see gallery_shortcode() in wp-includes/media.php */\n		\n		\n			\n				\n			\n			\n				\n			\n			\n				\n			\n			\n				\n			\n			\n				\n			\n			\n				\n			\n			\n				\n			\n			\n				\n			\n		\n\n
URL:https://cecbanyoles.cat/calendari/conferencia-curs-historia-de-catalunya-6/
CATEGORIES:Conferències,Curs d'història de Catalunya
ATTACH;FMTTYPE=image/jpeg:https://cecbanyoles.cat/wp-content/uploads/2015/07/DSC_7777.jpg
END:VEVENT
END:VCALENDAR