BEGIN:VCALENDAR
VERSION:2.0
PRODID:-//CEC Banyoles - ECPv4.5.13//NONSGML v1.0//EN
CALSCALE:GREGORIAN
METHOD:PUBLISH
X-WR-CALNAME:CEC Banyoles
X-ORIGINAL-URL:https://cecbanyoles.cat
X-WR-CALDESC:Events for CEC Banyoles
BEGIN:VEVENT
DTSTART;TZID=Europe/Madrid:20220121T190000
DTEND;TZID=Europe/Madrid:20220121T200000
DTSTAMP:20260421T114413
CREATED:20211214T083222Z
LAST-MODIFIED:20220201T091157Z
UID:6633-1642791600-1642795200@cecbanyoles.cat
SUMMARY:Cicle Objectiu 2030\, per un Pla de l’Estany sostenible: Els paisatges que vénen
DESCRIPTION:Conferència Els paisatges que vénen. \nA càrrec de Pere Sala\, ambientòleg. \nL’enorme dinamisme dels paisatges contemporanis indueix a l’emergència constant de noves formes de paisatge que cal llegir\, entendre\, i a les que s’ha de donar respostes de gestió i planificació adequades. Per exemple\, de l’obligada resposta a l’emergència climàtica emergeixen els paisatges de les energies renovables\, on hi proliferen sobretot aerogeneradors i plaques fotovoltaiques. Aquest nou escenari representa una oportunitat per aprendre i construir una nova mirada a aquest tipus d’energia renovable. Com ho hem de fer perquè aquestes infraestructures sumin valor al territori i es situïn en la quotidianitat del paisatge? Com ordenem els paisatges de les energies renovables? \nPLACES LIMITADES. CAL RESERVA PRÈVIA \n
URL:https://cecbanyoles.cat/calendari/conferencia-cicle-objectiu-2030/
CATEGORIES:Objectiu 2030
END:VEVENT
END:VCALENDAR