BEGIN:VCALENDAR
VERSION:2.0
PRODID:-//CEC Banyoles - ECPv4.5.13//NONSGML v1.0//EN
CALSCALE:GREGORIAN
METHOD:PUBLISH
X-WR-CALNAME:CEC Banyoles
X-ORIGINAL-URL:https://cecbanyoles.cat
X-WR-CALDESC:Events for CEC Banyoles
BEGIN:VEVENT
DTSTART;TZID=UTC+0:20170312T091500
DTEND;TZID=UTC+0:20170312T140000
DTSTAMP:20260421T130611
CREATED:20160727T152925Z
LAST-MODIFIED:20160902T154335Z
UID:2890-1489310100-1489327200@cecbanyoles.cat
SUMMARY:Conèixer el Pla de l’Estany: Vilademuls
DESCRIPTION:Recorregut pel poble de Vilademuls fins a l’ermita de Sant Marçal de Quarantella. \nInscripcions: https://cecbanyoles.cat/sortides-al-pla-de-lestany/ \n
URL:https://cecbanyoles.cat/calendari/coneixer-pla-lestany-vilademuls/
CATEGORIES:Conèixer el Pla de l'Estany,Sortides
END:VEVENT
END:VCALENDAR