BEGIN:VCALENDAR
VERSION:2.0
PRODID:-//CEC Banyoles - ECPv4.5.13//NONSGML v1.0//EN
CALSCALE:GREGORIAN
METHOD:PUBLISH
X-WR-CALNAME:CEC Banyoles
X-ORIGINAL-URL:https://cecbanyoles.cat
X-WR-CALDESC:Events for CEC Banyoles
BEGIN:VEVENT
DTSTART;VALUE=DATE:20160306
DTEND;VALUE=DATE:20160306
DTSTAMP:20260420T004514
CREATED:20150713T061803Z
LAST-MODIFIED:20160302T173302Z
UID:1853-1457222400-1457308799@cecbanyoles.cat
SUMMARY:Conèixer el Pla de l'Estany: Vilademuls
DESCRIPTION:Visitarem un dels cinc decimars trobats a Vilademuls\, després anirem al Pou de glaç de Vilamarí i a la rajoleria de cal Bacallà. Finalment anirem a l’esglèsia de Sant Esteve i a Can Puig. \nInscripcions a https://cecbanyoles.cat/sortides-al-pla-de-lestany/ \n
URL:https://cecbanyoles.cat/calendari/coneixer-el-pla-de-lestany-vilademuls/
CATEGORIES:Conèixer el Pla de l'Estany,Sortides
END:VEVENT
END:VCALENDAR