BEGIN:VCALENDAR
VERSION:2.0
PRODID:-//CEC Banyoles - ECPv4.5.13//NONSGML v1.0//EN
CALSCALE:GREGORIAN
METHOD:PUBLISH
X-WR-CALNAME:CEC Banyoles
X-ORIGINAL-URL:https://cecbanyoles.cat
X-WR-CALDESC:Events for CEC Banyoles
BEGIN:VEVENT
DTSTART;TZID=Europe/Madrid:20220213T091500
DTEND;TZID=Europe/Madrid:20220213T140000
DTSTAMP:20260421T131029
CREATED:20211229T120002Z
LAST-MODIFIED:20220131T070518Z
UID:6671-1644743700-1644760800@cecbanyoles.cat
SUMMARY:Conèixer El Pla de l'Estany: Vilademí
DESCRIPTION:Vilademí. Rajoleria de can Barranc. Font de Cal Bacallà. Puig de Bonaire. Pi del Reblinco. Vilademí.\nRecorregut de prop de 8 km\, per pistes i algun corriol. Cal anar ben calçat. \nCAL INSCRIPCIÓ PRÈVIA. \n
URL:https://cecbanyoles.cat/calendari/coneixer-el-pla-de-lestany-vilademi-2/
CATEGORIES:Conèixer el Pla de l'Estany
END:VEVENT
END:VCALENDAR