BEGIN:VCALENDAR
VERSION:2.0
PRODID:-//CEC Banyoles - ECPv4.5.13//NONSGML v1.0//EN
CALSCALE:GREGORIAN
METHOD:PUBLISH
X-WR-CALNAME:CEC Banyoles
X-ORIGINAL-URL:https://cecbanyoles.cat
X-WR-CALDESC:Events for CEC Banyoles
BEGIN:VEVENT
DTSTART;TZID=UTC+0:20151213T091500
DTEND;TZID=UTC+0:20151213T140000
DTSTAMP:20260421T114650
CREATED:20150713T061000Z
LAST-MODIFIED:20150923T160142Z
UID:1843-1449998100-1450015200@cecbanyoles.cat
SUMMARY:Conèixer el Pla de l'Estany: Sant Miquel de Campmajor
DESCRIPTION:Visitarem la Roca dels Capellans\, Sant Nazari i observarem els fòssils de can Sagnari. \n
URL:https://cecbanyoles.cat/calendari/coneixer-el-pla-de-lestany-sant-miquel-de-campmajor/
CATEGORIES:CEC,Conèixer el Pla de l'Estany,Sortides
END:VEVENT
END:VCALENDAR