BEGIN:VCALENDAR
VERSION:2.0
PRODID:-//CEC Banyoles - ECPv4.5.13//NONSGML v1.0//EN
CALSCALE:GREGORIAN
METHOD:PUBLISH
X-WR-CALNAME:CEC Banyoles
X-ORIGINAL-URL:https://cecbanyoles.cat
X-WR-CALDESC:Events for CEC Banyoles
BEGIN:VEVENT
DTSTART;TZID=Europe/Madrid:20211212T080000
DTEND;TZID=Europe/Madrid:20211212T140000
DTSTAMP:20260421T095450
CREATED:20210723T084313Z
LAST-MODIFIED:20211109T084041Z
UID:6272-1639296000-1639317600@cecbanyoles.cat
SUMMARY:Conèixer el Pla de l’Estany: Pou de glaç de Can Mitjà
DESCRIPTION:Excepcionalment\, incloem en el cicle Conèixer el Pla de l’Estany aquesta sortida fora de la comarca per Biert i a la caiguda de sol ixent de Rocacorba\, guiada per Ernest Costa\, com a complement de l’exposició que se li va dedicar l’any passat. Un lloc apropiat per saber de la protoindústria de la fred. També donarem un cop d’ull a l’església de Sant Martí de Biert i al Molí (fariner) d’en Ramió. \nRecorregut de prop d’un parell d’hores de caminada\, per pistes i camins força planers. Cal anar ben calçat. \nCAL INSCRIPCIÓ PRÈVIA. \n
URL:https://cecbanyoles.cat/calendari/coneixer-el-pla-de-lestany-pou-de-glac-de-can-mitja/
CATEGORIES:Conèixer el Pla de l'Estany
END:VEVENT
END:VCALENDAR