BEGIN:VCALENDAR
VERSION:2.0
PRODID:-//CEC Banyoles - ECPv4.5.13//NONSGML v1.0//EN
CALSCALE:GREGORIAN
METHOD:PUBLISH
X-WR-CALNAME:CEC Banyoles
X-ORIGINAL-URL:https://cecbanyoles.cat
X-WR-CALDESC:Events for CEC Banyoles
BEGIN:VEVENT
DTSTART;TZID=UTC+0:20151011T091500
DTEND;TZID=UTC+0:20151011T140000
DTSTAMP:20260421T213230
CREATED:20150708T125052Z
LAST-MODIFIED:20160224T171712Z
UID:1804-1444554900-1444572000@cecbanyoles.cat
SUMMARY:Conèixer el Pla de l'Estany: Mata
DESCRIPTION:Visitarem el Roure Gros del Bosc de Can Riera\, l’església de Sant Andreu\, l’estació de tren i el taller del pintor Gonzalo Tabuenca. \n  \n
URL:https://cecbanyoles.cat/calendari/coneixer-el-pla-de-lestany-mata/
CATEGORIES:CEC,Sortides
END:VEVENT
END:VCALENDAR