BEGIN:VCALENDAR
VERSION:2.0
PRODID:-//CEC Banyoles - ECPv4.5.13//NONSGML v1.0//EN
CALSCALE:GREGORIAN
METHOD:PUBLISH
X-WR-CALNAME:CEC Banyoles
X-ORIGINAL-URL:https://cecbanyoles.cat
X-WR-CALDESC:Events for CEC Banyoles
BEGIN:VEVENT
DTSTART;VALUE=DATE:20160410
DTEND;VALUE=DATE:20160410
DTSTAMP:20260419T170310
CREATED:20150713T062042Z
LAST-MODIFIED:20160405T131425Z
UID:1856-1460246400-1460332799@cecbanyoles.cat
SUMMARY:Conèixer el Pla de l'Estany: Fontcoberta
DESCRIPTION:Visitarem el corral d’ovelles de Can Canet de Centenys\, l’església de sant Iscle i de santa Victòria de Centenys\, la Plaça de la Farrès\, el Pou de les Benediccions\, el Museu\, el Clot i la Font de Melianta i la Pedra dreta. \n
URL:https://cecbanyoles.cat/calendari/coneixer-el-pla-de-lestany-fontcoberta/
CATEGORIES:Conèixer el Pla de l'Estany,Sortides
END:VEVENT
END:VCALENDAR