BEGIN:VCALENDAR
VERSION:2.0
PRODID:-//CEC Banyoles - ECPv4.5.13//NONSGML v1.0//EN
CALSCALE:GREGORIAN
METHOD:PUBLISH
X-WR-CALNAME:CEC Banyoles
X-ORIGINAL-URL:https://cecbanyoles.cat
X-WR-CALDESC:Events for CEC Banyoles
BEGIN:VEVENT
DTSTART;VALUE=DATE:20160110
DTEND;VALUE=DATE:20160110
DTSTAMP:20260421T181527
CREATED:20150713T061318Z
LAST-MODIFIED:20151220T071852Z
UID:1846-1452384000-1452470399@cecbanyoles.cat
SUMMARY:Conèixer el Pla de l'Estany: Crespià: Sant Bartomeu. Sant Miquel de Roca. Plantació de noguers.
DESCRIPTION:
URL:https://cecbanyoles.cat/calendari/coneixer-el-pla-de-lestany-crespia/
CATEGORIES:Conèixer el Pla de l'Estany,Sortides
END:VEVENT
END:VCALENDAR