BEGIN:VCALENDAR
VERSION:2.0
PRODID:-//CEC Banyoles - ECPv4.5.13//NONSGML v1.0//EN
CALSCALE:GREGORIAN
METHOD:PUBLISH
X-WR-CALNAME:CEC Banyoles
X-ORIGINAL-URL:https://cecbanyoles.cat
X-WR-CALDESC:Events for CEC Banyoles
BEGIN:VEVENT
DTSTART;TZID=UTC+0:20151108T091500
DTEND;TZID=UTC+0:20151108T140000
DTSTAMP:20260421T165530
CREATED:20150713T055915Z
LAST-MODIFIED:20150923T155906Z
UID:1831-1446974100-1446991200@cecbanyoles.cat
SUMMARY:Conèixer El Pla de l'Estany: Cornellà del Terri
DESCRIPTION:Visitarem l’església de Sant Pere\, la capella de Sant Antoni\, cases de Pont-xetmar\, la capella de Sant Jaume i la Font de Sant Jaume. \n
URL:https://cecbanyoles.cat/calendari/coneixer-el-pla-de-lestany-cornella-del-terri/
CATEGORIES:Conèixer el Pla de l'Estany,Sortides
END:VEVENT
END:VCALENDAR