BEGIN:VCALENDAR
VERSION:2.0
PRODID:-//CEC Banyoles - ECPv4.5.13//NONSGML v1.0//EN
CALSCALE:GREGORIAN
METHOD:PUBLISH
X-WR-CALNAME:CEC Banyoles
X-ORIGINAL-URL:https://cecbanyoles.cat
X-WR-CALDESC:Events for CEC Banyoles
BEGIN:VEVENT
DTSTART;VALUE=DATE:20151121
DTEND;VALUE=DATE:20151121
DTSTAMP:20260421T115859
CREATED:20150713T060841Z
LAST-MODIFIED:20150730T063235Z
UID:1841-1448064000-1448150399@cecbanyoles.cat
SUMMARY:Col·loqui de Tardor.
DESCRIPTION:
URL:https://cecbanyoles.cat/calendari/col%c2%b7loqui-de-tardor/
CATEGORIES:Col·loqui de Tardor,Col·loquis,Conferències
END:VEVENT
END:VCALENDAR