BEGIN:VCALENDAR
VERSION:2.0
PRODID:-//CEC Banyoles - ECPv4.5.13//NONSGML v1.0//EN
CALSCALE:GREGORIAN
METHOD:PUBLISH
X-WR-CALNAME:CEC Banyoles
X-ORIGINAL-URL:https://cecbanyoles.cat
X-WR-CALDESC:Events for CEC Banyoles
BEGIN:VEVENT
DTSTART;VALUE=DATE:20151122
DTEND;VALUE=DATE:20151122
DTSTAMP:20260421T100945
CREATED:20150713T060907Z
LAST-MODIFIED:20150730T063235Z
UID:1842-1448150400-1448236799@cecbanyoles.cat
SUMMARY:Col·loqui de Tardor. Conferència de Clausura
DESCRIPTION:
URL:https://cecbanyoles.cat/calendari/col%c2%b7loqui-de-tardor-conferencia-de-clausura/
CATEGORIES:Col·loqui de Tardor,Col·loquis,Conferències
END:VEVENT
END:VCALENDAR