BEGIN:VCALENDAR
VERSION:2.0
PRODID:-//CEC Banyoles - ECPv4.5.13//NONSGML v1.0//EN
CALSCALE:GREGORIAN
METHOD:PUBLISH
X-WR-CALNAME:CEC Banyoles
X-ORIGINAL-URL:https://cecbanyoles.cat
X-WR-CALDESC:Events for CEC Banyoles
BEGIN:VEVENT
DTSTART;TZID=Europe/Madrid:20230317T190000
DTEND;TZID=Europe/Madrid:20230317T200000
DTSTAMP:20260420T201337
CREATED:20230310T091508Z
LAST-MODIFIED:20230314T083254Z
UID:8269-1679079600-1679083200@cecbanyoles.cat
SUMMARY:Cicle Objectiu 2030\, per un Pla de l’Estany sostenible: Quina mobilitat volem?
DESCRIPTION:Conferència Quina mobilitat volem? \nA càrrec Xavier Corominas\, promotor de l’ús de la bicicleta. \n  \nTraslladar la sostenibilitat a l’àmbit de la mobilitat és un dels reptes de futur més importants de la nostra societat. Per aconseguir-ho\, ens hem de preguntar quina mobilitat volem\, però aquesta qüestió ha d’anar acompanyada d’algunes preguntes més: Quina mobilitat necessitem? Quines perspectives de futur tenim? Quina tecnologia ens hi pot ajudar? Què podem fer nosaltres? I les administracions? Comentarem alguns exemples i\, entre tots\, intentarem donar resposta a aquestes preguntes. \n
URL:https://cecbanyoles.cat/calendari/cicle-objectiu-2030-per-un-pla-de-lestany-sostenible-quina-mobilitat-volem/
CATEGORIES:Objectiu 2030
END:VEVENT
END:VCALENDAR