BEGIN:VCALENDAR
VERSION:2.0
PRODID:-//CEC Banyoles - ECPv4.5.13//NONSGML v1.0//EN
CALSCALE:GREGORIAN
METHOD:PUBLISH
X-WR-CALNAME:CEC Banyoles
X-ORIGINAL-URL:https://cecbanyoles.cat
X-WR-CALDESC:Events for CEC Banyoles
BEGIN:VEVENT
DTSTART;TZID=Europe/Madrid:20231124T190000
DTEND;TZID=Europe/Madrid:20231124T203000
DTSTAMP:20260420T055545
CREATED:20231013T082634Z
LAST-MODIFIED:20231121T203444Z
UID:8900-1700852400-1700857800@cecbanyoles.cat
SUMMARY:Cicle Objectiu 2030\, per un Pla de l’Estany sostenible: Presentació “Lligar-se bé les espardenyes”
DESCRIPTION:Presentació del llibre “Lligar-se bé les espardenyes” de Dionís Guiteras. \nSolucions rurals als reptes globals. \n
URL:https://cecbanyoles.cat/calendari/cicle-objectiu-2030-per-un-pla-de-lestany-sostenible-presentacio-lligar-se-be-les-espardenyes/
CATEGORIES:Objectiu 2030
END:VEVENT
END:VCALENDAR