BEGIN:VCALENDAR
VERSION:2.0
PRODID:-//CEC Banyoles - ECPv4.5.13//NONSGML v1.0//EN
CALSCALE:GREGORIAN
METHOD:PUBLISH
X-WR-CALNAME:CEC Banyoles
X-ORIGINAL-URL:https://cecbanyoles.cat
X-WR-CALDESC:Events for CEC Banyoles
BEGIN:VEVENT
DTSTART;TZID=Europe/Madrid:20220422T190000
DTEND;TZID=Europe/Madrid:20220422T200000
DTSTAMP:20260421T161615
CREATED:20220308T092549Z
LAST-MODIFIED:20220311T094612Z
UID:6960-1650654000-1650657600@cecbanyoles.cat
SUMMARY:Cicle Objectiu 2030\, per un Pla de l’Estany sostenible: La biodiversitat del planeta\, l’estem perdent abans de conèixer-la?
DESCRIPTION:Conferència La biodiversitat del planeta\, l’estem perdent abans de conèixer-la? \nA càrrec de Dani Boix\, biòleg. \nConèixer la biodiversitat de l’únic planeta que habitem hauria de ser un dels principals objectius d’una espècie que es considera “intel•ligent”. Més encara si els seus beneficis per a la humanitat són coneguts i importants. Ara bé\, el ritme actual de descripció de noves espècies\, conjuntament amb les estimacions de la biodiversitat global\, ens fan pensar que encara estem lluny de conèixer la bio-diversitat del planeta. A més\, estem immersos en una extinció d’espècies comparable a les cinc ex-tincions massives que ha sofert la vida en el planeta al llarg de la seva existència. Així\, malaurada-ment\, si no canvien les taxes actuals d’extinció\, aconseguirem finalment conèixer la biodiversitat del planeta senzillament perquè l’haurem reduït de forma alarmant i perillosa. \nPLACES LIMITADES. CAL RESERVA PRÈVIA \n
URL:https://cecbanyoles.cat/calendari/cicle-objectiu-2030-per-un-pla-de-lestany-sostenible-pendent-de-confirmar/
CATEGORIES:Objectiu 2030
END:VEVENT
END:VCALENDAR