BEGIN:VCALENDAR
VERSION:2.0
PRODID:-//CEC Banyoles - ECPv4.5.13//NONSGML v1.0//EN
CALSCALE:GREGORIAN
METHOD:PUBLISH
X-WR-CALNAME:CEC Banyoles
X-ORIGINAL-URL:https://cecbanyoles.cat
X-WR-CALDESC:Events for CEC Banyoles
BEGIN:VEVENT
DTSTART;VALUE=DATE:20160311
DTEND;VALUE=DATE:20160311
DTSTAMP:20260420T002513
CREATED:20150713T061840Z
LAST-MODIFIED:20151126T140631Z
UID:1854-1457654400-1457740799@cecbanyoles.cat
SUMMARY:Curs d'història de Catalunya: La guerra civil a Catalunya i a la comarca
DESCRIPTION:A les 20:00 a la Sala Josep M. Corominas\, al Centre d’Estudis Comarcals de Banyoles\, conferència a càrrec de Jordi Galofre \n
URL:https://cecbanyoles.cat/calendari/chc-jordi-galofre-la-guerra-civil-a-catalunya-i-a-la-comarca/
CATEGORIES:Curs d'història de Catalunya
END:VEVENT
END:VCALENDAR