BEGIN:VCALENDAR
VERSION:2.0
PRODID:-//CEC Banyoles - ECPv4.5.13//NONSGML v1.0//EN
CALSCALE:GREGORIAN
METHOD:PUBLISH
X-WR-CALNAME:CEC Banyoles
X-ORIGINAL-URL:https://cecbanyoles.cat
X-WR-CALDESC:Events for CEC Banyoles
BEGIN:VEVENT
DTSTART;VALUE=DATE:20160415
DTEND;VALUE=DATE:20160415
DTSTAMP:20260419T151815
CREATED:20150713T062127Z
LAST-MODIFIED:20151126T140707Z
UID:1857-1460678400-1460764799@cecbanyoles.cat
SUMMARY:Curs d'història de Catalunya: El franquisme a Catalunya
DESCRIPTION:A les 20:00 a la Sala Josep M. Corominas\, al Centre d’Estudis Comarcals de Banyoles\, conferència a càrrec de Jordi Font \n
URL:https://cecbanyoles.cat/calendari/chc-el-franquisme-a-catalunya/
CATEGORIES:Curs d'història de Catalunya
END:VEVENT
END:VCALENDAR