BEGIN:VCALENDAR
VERSION:2.0
PRODID:-//CEC Banyoles - ECPv4.5.13//NONSGML v1.0//EN
CALSCALE:GREGORIAN
METHOD:PUBLISH
X-WR-CALNAME:CEC Banyoles
X-ORIGINAL-URL:https://cecbanyoles.cat
X-WR-CALDESC:Events for CEC Banyoles
BEGIN:VEVENT
DTSTART;VALUE=DATE:20160131
DTEND;VALUE=DATE:20160131
DTSTAMP:20260422T084915
CREATED:20150713T061522Z
LAST-MODIFIED:20150730T063235Z
UID:1849-1454198400-1454284799@cecbanyoles.cat
SUMMARY:Assemblea General Ordinària de Socis
DESCRIPTION:
URL:https://cecbanyoles.cat/calendari/assemblea-general-ordinaria-de-socis-3/
CATEGORIES:CEC
END:VEVENT
END:VCALENDAR