BEGIN:VCALENDAR
VERSION:2.0
PRODID:-//CEC Banyoles - ECPv4.5.13//NONSGML v1.0//EN
CALSCALE:GREGORIAN
METHOD:PUBLISH
X-WR-CALNAME:CEC Banyoles
X-ORIGINAL-URL:https://cecbanyoles.cat
X-WR-CALDESC:Events for CEC Banyoles
BEGIN:VEVENT
DTSTART;TZID=UTC+0:20170324T200000
DTEND;TZID=UTC+0:20170324T210000
DTSTAMP:20260421T100946
CREATED:20170202T090716Z
LAST-MODIFIED:20170207T112203Z
UID:3213-1490385600-1490389200@cecbanyoles.cat
SUMMARY:Taula rodona sobre "Valoració i regeneració del paisatge"
DESCRIPTION:A les vuit del vespre\, a la Sala d’Actes del Centre Excursionista de Banyoles\, taula rodona sobre “Valoració i regeneració del paisatge”\, amb motiu de la presentació del llibre “Ambient\, territori i paisatge”\, un assaig sobre el concepte\, el valor i les valoracions del paisatge i de l’ambient\, obra del socioecòleg Dr. Ramon Folch i de la geògrafa Dra. Josepa Bru. \nParticiparan a la taula rodona els autors del llibre i el Dr. Joan Manuel del Pozo\, prologuista. \n
URL:https://cecbanyoles.cat/calendari/3213/
CATEGORIES:Presentació llibre
END:VEVENT
END:VCALENDAR